View In:
ArcGIS JavaScript
ArcGIS Enterprise Map Viewer
ArcGIS Earth
Service Description: Kapiti Urban DEM 2021 1m NZDV2016
Name: Kapiti Urban DEM 2021 1m NZDV2016
Description:
Single Fused Map Cache: true
Tile Info:
- Height: 256
- Width: 256
- DPI: 96
-
Levels of Detail: 24
-
Level ID: 0
[ Start Tile, End Tile ]
- Resolution: 156543.03392799935
- Scale: 5.91657527591552E8
-
Level ID: 1
[ Start Tile, End Tile ]
- Resolution: 78271.51696399967
- Scale: 2.95828763795776E8
-
Level ID: 2
[ Start Tile, End Tile ]
- Resolution: 39135.75848199984
- Scale: 1.47914381897888E8
-
Level ID: 3
[ Start Tile, End Tile ]
- Resolution: 19567.87924099992
- Scale: 7.3957190948944E7
-
Level ID: 4
[ Start Tile, End Tile ]
- Resolution: 9783.93962049996
- Scale: 3.6978595474472E7
-
Level ID: 5
[ Start Tile, End Tile ]
- Resolution: 4891.96981024998
- Scale: 1.8489297737236E7
- Format: LERC
- Compression Quality: 0.0
- LERC Error: 0.1
- Origin: X: -4020900.0
Y: 1.99981E7
- Spatial Reference: 2193
(2193)
LatestVCSWkid(0)
Extent:
XMin: 1761279.9982725065
YMin: 5457119.992837975
XMax: 1788639.9943194864
YMax: 5493120.00433366
Spatial Reference: 2193
(2193)
LatestVCSWkid(0)
Initial Extent:
XMin: 1761279.9982725065
YMin: 5457119.992837975
XMax: 1788639.9943194864
YMax: 5493120.00433366
Spatial Reference: 2193
(2193)
LatestVCSWkid(0)
Full Extent:
XMin: 1761279.9982725065
YMin: 5457119.992837975
XMax: 1788639.9943194864
YMax: 5493120.00433366
Spatial Reference: 2193
(2193)
LatestVCSWkid(0)
Pixel Size X: 0.01866138385297604
Pixel Size Y: 0.01866138385297604
Band Count: 1
Pixel Type:
RasterFunction Infos: {"rasterFunctionInfos": null}
Mensuration Capabilities:
Inspection Capabilities:
Has Histograms: false
Has Colormap: false
Has Multi Dimensions : false
Rendering Rule:
Min Scale: 7.3957190948944E7
Max Scale: 2256.994353
Min LOD: 3
Max LOD: 18
Copyright Text: N/A
Service Data Type: esriImageServiceDataTypeElevation
Min Values: N/A
Max Values: N/A
Mean Values: N/A
Standard Deviation Values: N/A
Object ID Field: N/A
Fields:
None
Default Mosaic Method: N/A
Allowed Mosaic Methods: N/A
SortField: N/A
SortValue: N/A
Mosaic Operator: N/A
Default Compression Quality: null
Default Resampling Method: N/A
Max Record Count: null
Max Image Height: null
Max Image Width: null
Max Download Image Count: null
Max Mosaic Image Count: null
Allow Raster Function: null
Allow Copy: null
Allow Analysis: null
Allow Compute TiePoints: false
Supports Statistics: false
Supports Advanced Queries: false
Use StandardizedQueries: false
Raster Type Infos:
None
Has Raster Attribute Table: null
Edit Fields Info: N/A
Ownership Based AccessControl For Rasters: N/A
Child Resources:
Info